Package: EpipwR Version: 1.4.0 Command: /home/biocbuild/bbs-3.22-bioc/R/bin/R CMD check --install=check:EpipwR.install-out.txt --library=/home/biocbuild/bbs-3.22-bioc/R/site-library --timings EpipwR_1.4.0.tar.gz StartedAt: 2025-11-14 23:32:28 -0500 (Fri, 14 Nov 2025) EndedAt: 2025-11-14 23:35:36 -0500 (Fri, 14 Nov 2025) EllapsedTime: 188.2 seconds RetCode: 0 Status: OK CheckDir: EpipwR.Rcheck Warnings: 0