Package: EpipwR Version: 1.2.0 Command: /home/biocbuild/bbs-3.21-bioc/R/bin/R CMD build --keep-empty-dirs --no-resave-data EpipwR StartedAt: 2025-10-15 17:24:16 -0400 (Wed, 15 Oct 2025) EndedAt: 2025-10-15 17:24:36 -0400 (Wed, 15 Oct 2025) EllapsedTime: 20.0 seconds RetCode: 0 Status: OK PackageFile: EpipwR_1.2.0.tar.gz PackageFileSize: 122.4 KiB