Package: EpipwR Version: 1.4.0 Command: /Library/Frameworks/R.framework/Resources/bin/R CMD INSTALL EpipwR StartedAt: 2025-10-31 15:32:01 -0400 (Fri, 31 Oct 2025) EndedAt: 2025-10-31 15:32:21 -0400 (Fri, 31 Oct 2025) EllapsedTime: 20.1 seconds RetCode: 0 Status: OK