Package: EpipwR Version: 1.4.0 Command: /Library/Frameworks/R.framework/Resources/bin/R CMD build --keep-empty-dirs --no-resave-data EpipwR StartedAt: 2025-11-02 17:01:00 -0500 (Sun, 02 Nov 2025) EndedAt: 2025-11-02 17:01:24 -0500 (Sun, 02 Nov 2025) EllapsedTime: 23.9 seconds RetCode: 0 Status: OK PackageFile: EpipwR_1.4.0.tar.gz PackageFileSize: 126.5 KiB