Package: EpipwR Version: 1.2.0 Command: /home/biocbuild/R/R/bin/R CMD INSTALL EpipwR StartedAt: 2025-10-06 20:40:37 -0000 (Mon, 06 Oct 2025) EndedAt: 2025-10-06 20:40:57 -0000 (Mon, 06 Oct 2025) EllapsedTime: 20.5 seconds RetCode: 0 Status: OK