Package: EpipwR Version: 1.2.0 Command: /Library/Frameworks/R.framework/Resources/bin/R CMD build --keep-empty-dirs --no-resave-data EpipwR StartedAt: 2025-10-13 23:59:45 -0400 (Mon, 13 Oct 2025) EndedAt: 2025-10-14 00:00:08 -0400 (Tue, 14 Oct 2025) EllapsedTime: 23.6 seconds RetCode: 0 Status: OK PackageFile: EpipwR_1.2.0.tar.gz PackageFileSize: 122.6 KiB