Package: EpiTxDb Version: 1.22.0 Command: /home/biocbuild/bbs-3.22-bioc/R/bin/R CMD INSTALL EpiTxDb StartedAt: 2025-11-11 15:46:39 -0500 (Tue, 11 Nov 2025) EndedAt: 2025-11-11 15:47:24 -0500 (Tue, 11 Nov 2025) EllapsedTime: 45.4 seconds RetCode: 0 Status: OK