Package: EpiTxDb Version: 1.20.0 Command: /home/biocbuild/R/R/bin/R CMD build --keep-empty-dirs --no-resave-data EpiTxDb StartedAt: 2025-10-14 00:41:07 -0000 (Tue, 14 Oct 2025) EndedAt: 2025-10-14 00:45:56 -0000 (Tue, 14 Oct 2025) EllapsedTime: 289.1 seconds RetCode: 0 Status: OK PackageFile: EpiTxDb_1.20.0.tar.gz PackageFileSize: 911.8 KiB