Package: EpiTxDb Version: 1.22.0 Command: /Library/Frameworks/R.framework/Resources/bin/R CMD build --keep-empty-dirs --no-resave-data EpiTxDb StartedAt: 2025-10-31 16:24:49 -0400 (Fri, 31 Oct 2025) EndedAt: 2025-10-31 16:26:06 -0400 (Fri, 31 Oct 2025) EllapsedTime: 76.8 seconds RetCode: 0 Status: OK PackageFile: EpiTxDb_1.22.0.tar.gz PackageFileSize: 779.5 KiB