Package: EpiTxDb Version: 1.22.0 Command: rm -rf EpiTxDb.buildbin-libdir && mkdir EpiTxDb.buildbin-libdir && /Users/biocbuild/BBS/utils/build-universal.sh EpiTxDb_1.22.0.tar.gz /Library/Frameworks/R.framework/Resources/bin/R EpiTxDb.buildbin-libdir StartedAt: 2025-10-31 23:06:23 -0400 (Fri, 31 Oct 2025) EndedAt: 2025-10-31 23:06:42 -0400 (Fri, 31 Oct 2025) EllapsedTime: 19.4 seconds RetCode: 0 Status: OK PackageFile: EpiTxDb_1.22.0.tgz PackageFileSize: 1.684 MiB