Package: EpiDISH Version: 2.26.0 Command: /home/biocbuild/bbs-3.22-bioc/R/bin/R CMD INSTALL EpiDISH StartedAt: 2025-11-11 15:09:34 -0500 (Tue, 11 Nov 2025) EndedAt: 2025-11-11 15:09:42 -0500 (Tue, 11 Nov 2025) EllapsedTime: 7.5 seconds RetCode: 0 Status: OK