Package: EpiDISH Version: 2.26.0 Command: /home/biocbuild/bbs-3.22-bioc/R/bin/R CMD build --keep-empty-dirs --no-resave-data --md5 EpiDISH StartedAt: 2025-11-11 17:35:21 -0500 (Tue, 11 Nov 2025) EndedAt: 2025-11-11 17:35:36 -0500 (Tue, 11 Nov 2025) EllapsedTime: 15.0 seconds RetCode: 0 Status: OK PackageFile: EpiDISH_2.26.0.tar.gz PackageFileSize: 3.117 MiB