Package: EpiDISH Version: 2.26.0 Command: /Library/Frameworks/R.framework/Resources/bin/R CMD INSTALL EpiDISH StartedAt: 2025-11-10 15:03:10 -0500 (Mon, 10 Nov 2025) EndedAt: 2025-11-10 15:03:13 -0500 (Mon, 10 Nov 2025) EllapsedTime: 3.1 seconds RetCode: 0 Status: OK