Package: EpiDISH Version: 2.26.0 Command: /Library/Frameworks/R.framework/Resources/bin/R CMD build --keep-empty-dirs --no-resave-data EpiDISH StartedAt: 2025-11-10 16:19:51 -0500 (Mon, 10 Nov 2025) EndedAt: 2025-11-10 16:19:58 -0500 (Mon, 10 Nov 2025) EllapsedTime: 7.1 seconds RetCode: 0 Status: OK PackageFile: EpiDISH_2.26.0.tar.gz PackageFileSize: 3.1 MiB