Package: EpiDISH Version: 2.26.0 Command: rm -rf EpiDISH.buildbin-libdir && mkdir EpiDISH.buildbin-libdir && /Users/biocbuild/BBS/utils/build-universal.sh EpiDISH_2.26.0.tar.gz /Library/Frameworks/R.framework/Resources/bin/R EpiDISH.buildbin-libdir StartedAt: 2025-11-10 23:19:13 -0500 (Mon, 10 Nov 2025) EndedAt: 2025-11-10 23:19:16 -0500 (Mon, 10 Nov 2025) EllapsedTime: 3.1 seconds RetCode: 0 Status: OK PackageFile: EpiDISH_2.26.0.tgz PackageFileSize: 2.114 MiB