Package: EpiCompare Version: 1.14.0 Command: /home/biocbuild/bbs-3.22-bioc/R/bin/R CMD INSTALL EpiCompare StartedAt: 2025-11-14 16:03:13 -0500 (Fri, 14 Nov 2025) EndedAt: 2025-11-14 16:04:04 -0500 (Fri, 14 Nov 2025) EllapsedTime: 50.7 seconds RetCode: 0 Status: OK