Package: EpiCompare Version: 1.14.0 Command: /home/biocbuild/bbs-3.22-bioc/R/bin/R CMD build --keep-empty-dirs --no-resave-data --md5 EpiCompare StartedAt: 2025-11-14 17:34:27 -0500 (Fri, 14 Nov 2025) EndedAt: 2025-11-14 17:35:42 -0500 (Fri, 14 Nov 2025) EllapsedTime: 75.2 seconds RetCode: 0 Status: OK PackageFile: EpiCompare_1.14.0.tar.gz PackageFileSize: 1.881 MiB