Package: EpiCompare Version: 1.14.0 Command: /Library/Frameworks/R.framework/Resources/bin/R CMD INSTALL EpiCompare StartedAt: 2025-11-10 15:31:52 -0500 (Mon, 10 Nov 2025) EndedAt: 2025-11-10 15:32:11 -0500 (Mon, 10 Nov 2025) EllapsedTime: 19.4 seconds RetCode: 0 Status: OK