Package: EpiCompare Version: 1.14.0 Command: rm -rf EpiCompare.buildbin-libdir && mkdir EpiCompare.buildbin-libdir && /Users/biocbuild/BBS/utils/build-universal.sh EpiCompare_1.14.0.tar.gz /Library/Frameworks/R.framework/Resources/bin/R EpiCompare.buildbin-libdir StartedAt: 2025-11-10 23:19:11 -0500 (Mon, 10 Nov 2025) EndedAt: 2025-11-10 23:19:33 -0500 (Mon, 10 Nov 2025) EllapsedTime: 21.4 seconds RetCode: 0 Status: OK PackageFile: EpiCompare_1.14.0.tgz PackageFileSize: 1.662 MiB