Package: EnrichmentBrowser Version: 2.40.0 Command: /home/biocbuild/R/R/bin/R CMD INSTALL EnrichmentBrowser StartedAt: 2025-11-24 22:08:52 -0000 (Mon, 24 Nov 2025) EndedAt: 2025-11-24 22:09:35 -0000 (Mon, 24 Nov 2025) EllapsedTime: 43.5 seconds RetCode: 0 Status: OK