Package: EnrichmentBrowser Version: 2.40.0 Command: /home/biocbuild/R/R/bin/R CMD build --keep-empty-dirs --no-resave-data EnrichmentBrowser StartedAt: 2025-11-21 02:11:35 -0000 (Fri, 21 Nov 2025) EndedAt: 2025-11-21 02:14:11 -0000 (Fri, 21 Nov 2025) EllapsedTime: 156.1 seconds RetCode: 0 Status: OK PackageFile: EnrichmentBrowser_2.40.0.tar.gz PackageFileSize: 1.358 MiB