Package: EnrichmentBrowser Version: 2.38.1 Command: /home/biocbuild/bbs-3.21-bioc/R/bin/R CMD INSTALL EnrichmentBrowser StartedAt: 2025-10-15 15:58:09 -0400 (Wed, 15 Oct 2025) EndedAt: 2025-10-15 15:58:41 -0400 (Wed, 15 Oct 2025) EllapsedTime: 31.7 seconds RetCode: 0 Status: OK