Package: EnrichmentBrowser Version: 2.38.0 Command: rm -rf EnrichmentBrowser.buildbin-libdir && mkdir EnrichmentBrowser.buildbin-libdir && /Users/biocbuild/BBS/utils/build-universal.sh EnrichmentBrowser_2.38.0.tar.gz /Library/Frameworks/R.framework/Resources/bin/R EnrichmentBrowser.buildbin-libdir StartedAt: 2025-04-22 00:44:13 -0400 (Tue, 22 Apr 2025) EndedAt: 2025-04-22 00:45:00 -0400 (Tue, 22 Apr 2025) EllapsedTime: 46.4 seconds RetCode: 0 Status: OK PackageFile: EnrichmentBrowser_2.38.0.tgz PackageFileSize: 1.865 MiB