Package: EnrichmentBrowser Version: 2.38.0 Command: /Library/Frameworks/R.framework/Resources/bin/R CMD INSTALL EnrichmentBrowser StartedAt: 2025-04-21 15:30:55 -0400 (Mon, 21 Apr 2025) EndedAt: 2025-04-21 15:31:08 -0400 (Mon, 21 Apr 2025) EllapsedTime: 13.5 seconds RetCode: 0 Status: OK