Package: EnrichmentBrowser Version: 2.38.1 Command: /Library/Frameworks/R.framework/Resources/bin/R CMD INSTALL EnrichmentBrowser StartedAt: 2025-10-13 18:29:19 -0400 (Mon, 13 Oct 2025) EndedAt: 2025-10-13 18:29:56 -0400 (Mon, 13 Oct 2025) EllapsedTime: 37.6 seconds RetCode: 0 Status: OK