Package: EnrichmentBrowser Version: 2.38.1 Command: /Library/Frameworks/R.framework/Resources/bin/R CMD build --keep-empty-dirs --no-resave-data EnrichmentBrowser StartedAt: 2025-10-13 23:52:31 -0400 (Mon, 13 Oct 2025) EndedAt: 2025-10-13 23:55:10 -0400 (Mon, 13 Oct 2025) EllapsedTime: 159.1 seconds RetCode: 0 Status: OK PackageFile: EnrichmentBrowser_2.38.1.tar.gz PackageFileSize: 1.651 MiB