Package: EnrichmentBrowser Version: 2.38.1 Command: rm -rf EnrichmentBrowser.buildbin-libdir && mkdir EnrichmentBrowser.buildbin-libdir && /Users/biocbuild/BBS/utils/build-universal.sh EnrichmentBrowser_2.38.1.tar.gz /Library/Frameworks/R.framework/Resources/bin/R EnrichmentBrowser.buildbin-libdir StartedAt: 2025-10-15 18:22:24 -0400 (Wed, 15 Oct 2025) EndedAt: 2025-10-15 18:23:06 -0400 (Wed, 15 Oct 2025) EllapsedTime: 42.4 seconds RetCode: 0 Status: OK PackageFile: EnrichmentBrowser_2.38.1.tgz PackageFileSize: 1.855 MiB