Package: EnrichmentBrowser Version: 2.38.1 Maintainer: Ludwig Geistlinger MaintainerEmail: ludwig.geistlinger at gmail.com git_url: https://git.bioconductor.org/packages/EnrichmentBrowser git_branch: RELEASE_3_21 git_last_commit: 9d08344 git_last_commit_date: 2025-08-28 15:58:59 -0400 (Thu, 28 Aug 2025)