Package: EnrichedHeatmap Version: 1.40.0 Command: /home/biocbuild/R/R/bin/R CMD INSTALL EnrichedHeatmap StartedAt: 2025-11-13 21:22:06 -0000 (Thu, 13 Nov 2025) EndedAt: 2025-11-13 21:22:29 -0000 (Thu, 13 Nov 2025) EllapsedTime: 23.4 seconds RetCode: 0 Status: OK