Package: EnrichedHeatmap Version: 1.40.0 Command: /home/biocbuild/R/R/bin/R CMD build --keep-empty-dirs --no-resave-data EnrichedHeatmap StartedAt: 2025-11-14 01:35:26 -0000 (Fri, 14 Nov 2025) EndedAt: 2025-11-14 01:42:01 -0000 (Fri, 14 Nov 2025) EllapsedTime: 394.1 seconds RetCode: 0 Status: OK PackageFile: EnrichedHeatmap_1.40.0.tar.gz PackageFileSize: 9.659 MiB