Package: EnrichedHeatmap Version: 1.38.0 Command: /home/biocbuild/bbs-3.21-bioc/R/bin/R CMD INSTALL EnrichedHeatmap StartedAt: 2025-10-12 15:14:48 -0400 (Sun, 12 Oct 2025) EndedAt: 2025-10-12 15:15:05 -0400 (Sun, 12 Oct 2025) EllapsedTime: 17.1 seconds RetCode: 0 Status: OK