Package: EnrichedHeatmap Version: 1.38.0 Command: /home/biocbuild/bbs-3.21-bioc/R/bin/R CMD build --keep-empty-dirs --no-resave-data EnrichedHeatmap StartedAt: 2025-10-12 17:22:20 -0400 (Sun, 12 Oct 2025) EndedAt: 2025-10-12 17:27:45 -0400 (Sun, 12 Oct 2025) EllapsedTime: 324.4 seconds RetCode: 0 Status: OK PackageFile: EnrichedHeatmap_1.38.0.tar.gz PackageFileSize: 11.63 MiB