Package: EnrichedHeatmap Version: 1.38.0 Command: /Library/Frameworks/R.framework/Resources/bin/R CMD INSTALL EnrichedHeatmap StartedAt: 2025-10-09 16:00:42 -0400 (Thu, 09 Oct 2025) EndedAt: 2025-10-09 16:01:02 -0400 (Thu, 09 Oct 2025) EllapsedTime: 20.0 seconds RetCode: 0 Status: OK