Package: EnrichDO Version: 1.4.0 Command: /Library/Frameworks/R.framework/Resources/bin/R CMD INSTALL EnrichDO StartedAt: 2025-11-03 15:39:25 -0500 (Mon, 03 Nov 2025) EndedAt: 2025-11-03 15:39:44 -0500 (Mon, 03 Nov 2025) EllapsedTime: 18.9 seconds RetCode: 0 Status: OK