Package: EnrichDO Version: 1.2.0 Command: /home/biocbuild/R/R/bin/R CMD INSTALL EnrichDO StartedAt: 2025-10-13 21:10:53 -0000 (Mon, 13 Oct 2025) EndedAt: 2025-10-13 21:11:34 -0000 (Mon, 13 Oct 2025) EllapsedTime: 40.6 seconds RetCode: 0 Status: OK