Package: EnrichDO Version: 1.2.0 Command: /home/biocbuild/R/R/bin/R CMD build --keep-empty-dirs --no-resave-data EnrichDO StartedAt: 2025-10-14 00:35:18 -0000 (Tue, 14 Oct 2025) EndedAt: 2025-10-14 00:37:30 -0000 (Tue, 14 Oct 2025) EllapsedTime: 132.0 seconds RetCode: 0 Status: OK PackageFile: EnrichDO_1.2.0.tar.gz PackageFileSize: 2.438 MiB