Package: EnhancedVolcano Version: 1.28.0 Command: /home/biocbuild/bbs-3.22-bioc/R/bin/R CMD INSTALL EnhancedVolcano StartedAt: 2025-11-11 15:11:53 -0500 (Tue, 11 Nov 2025) EndedAt: 2025-11-11 15:12:03 -0500 (Tue, 11 Nov 2025) EllapsedTime: 9.3 seconds RetCode: 0 Status: OK