Package: EnhancedVolcano Version: 1.28.0 Command: /home/biocbuild/bbs-3.22-bioc/R/bin/R CMD check --install=check:EnhancedVolcano.install-out.txt --library=/home/biocbuild/bbs-3.22-bioc/R/site-library --timings EnhancedVolcano_1.28.0.tar.gz StartedAt: 2025-11-13 23:26:49 -0500 (Thu, 13 Nov 2025) EndedAt: 2025-11-13 23:26:55 -0500 (Thu, 13 Nov 2025) EllapsedTime: 6.0 seconds RetCode: 1 Status: ERROR CheckDir: EnhancedVolcano.Rcheck Warnings: NA