Package: EnhancedVolcano Version: 1.28.0 Command: /home/biocbuild/bbs-3.22-bioc/R/bin/R CMD build --keep-empty-dirs --no-resave-data --md5 EnhancedVolcano StartedAt: 2025-11-11 17:33:15 -0500 (Tue, 11 Nov 2025) EndedAt: 2025-11-11 17:34:54 -0500 (Tue, 11 Nov 2025) EllapsedTime: 99.1 seconds RetCode: 0 Status: OK PackageFile: EnhancedVolcano_1.28.0.tar.gz PackageFileSize: 9.416 MiB