Package: EnhancedVolcano Version: 1.26.0 Command: /home/biocbuild/bbs-3.21-bioc/R/bin/R CMD build --keep-empty-dirs --no-resave-data EnhancedVolcano StartedAt: 2025-10-15 17:21:11 -0400 (Wed, 15 Oct 2025) EndedAt: 2025-10-15 17:22:48 -0400 (Wed, 15 Oct 2025) EllapsedTime: 97.1 seconds RetCode: 0 Status: OK PackageFile: EnhancedVolcano_1.26.0.tar.gz PackageFileSize: 9.421 MiB