Package: EnhancedVolcano Version: 1.28.0 Command: /Library/Frameworks/R.framework/Resources/bin/R CMD INSTALL EnhancedVolcano StartedAt: 2025-11-03 15:14:27 -0500 (Mon, 03 Nov 2025) EndedAt: 2025-11-03 15:15:11 -0500 (Mon, 03 Nov 2025) EllapsedTime: 43.9 seconds RetCode: 0 Status: OK