Package: EnhancedVolcano Version: 1.28.0 Command: /Library/Frameworks/R.framework/Resources/bin/R CMD build --keep-empty-dirs --no-resave-data EnhancedVolcano StartedAt: 2025-10-31 16:59:16 -0400 (Fri, 31 Oct 2025) EndedAt: 2025-10-31 17:00:55 -0400 (Fri, 31 Oct 2025) EllapsedTime: 99.4 seconds RetCode: 0 Status: OK PackageFile: EnhancedVolcano_1.28.0.tar.gz PackageFileSize: 9.819 MiB