Package: EnhancedVolcano Version: 1.28.0 Command: rm -rf EnhancedVolcano.buildbin-libdir && mkdir EnhancedVolcano.buildbin-libdir && /Users/biocbuild/BBS/utils/build-universal.sh EnhancedVolcano_1.28.0.tar.gz /Library/Frameworks/R.framework/Resources/bin/R EnhancedVolcano.buildbin-libdir StartedAt: 2025-11-04 01:38:51 -0500 (Tue, 04 Nov 2025) EndedAt: 2025-11-04 01:39:02 -0500 (Tue, 04 Nov 2025) EllapsedTime: 11.7 seconds RetCode: 0 Status: OK PackageFile: EnhancedVolcano_1.28.0.tgz PackageFileSize: 5.808 MiB