Package: EnhancedVolcano Version: 1.26.0 Command: /home/biocbuild/R/R/bin/R CMD INSTALL EnhancedVolcano StartedAt: 2025-10-06 20:18:35 -0000 (Mon, 06 Oct 2025) EndedAt: 2025-10-06 20:18:49 -0000 (Mon, 06 Oct 2025) EllapsedTime: 14.1 seconds RetCode: 0 Status: OK