Package: EnhancedVolcano Version: 1.26.0 Command: /home/biocbuild/R/R/bin/R CMD build --keep-empty-dirs --no-resave-data EnhancedVolcano StartedAt: 2025-10-07 00:36:36 -0000 (Tue, 07 Oct 2025) EndedAt: 2025-10-07 00:38:35 -0000 (Tue, 07 Oct 2025) EllapsedTime: 119.0 seconds RetCode: 0 Status: OK PackageFile: EnhancedVolcano_1.26.0.tar.gz PackageFileSize: 9.124 MiB