Package: EnhancedVolcano Version: 1.28.0 Maintainer: Kevin Blighe MaintainerEmail: kevin at clinicalbioinformatics.co.uk git_url: https://git.bioconductor.org/packages/EnhancedVolcano git_branch: RELEASE_3_22 git_last_commit: 570a85d git_last_commit_date: 2025-10-29 10:47:03 -0400 (Wed, 29 Oct 2025)