Package: EnMCB Version: 1.22.0 Command: /home/biocbuild/bbs-3.22-bioc/R/bin/R CMD build --keep-empty-dirs --no-resave-data --md5 EnMCB StartedAt: 2025-11-11 17:33:22 -0500 (Tue, 11 Nov 2025) EndedAt: 2025-11-11 17:34:03 -0500 (Tue, 11 Nov 2025) EllapsedTime: 41.0 seconds RetCode: 0 Status: OK PackageFile: EnMCB_1.22.0.tar.gz PackageFileSize: 4.93 MiB