Package: EnMCB Version: 1.20.0 Command: /home/biocbuild/bbs-3.21-bioc/R/bin/R CMD build --keep-empty-dirs --no-resave-data EnMCB StartedAt: 2025-10-15 17:21:15 -0400 (Wed, 15 Oct 2025) EndedAt: 2025-10-15 17:21:56 -0400 (Wed, 15 Oct 2025) EllapsedTime: 41.0 seconds RetCode: 0 Status: OK PackageFile: EnMCB_1.20.0.tar.gz PackageFileSize: 4.929 MiB