Package: EnMCB Version: 1.22.0 Command: /Library/Frameworks/R.framework/Resources/bin/R CMD INSTALL EnMCB StartedAt: 2025-10-30 15:10:42 -0400 (Thu, 30 Oct 2025) EndedAt: 2025-10-30 15:11:19 -0400 (Thu, 30 Oct 2025) EllapsedTime: 36.9 seconds RetCode: 0 Status: OK