Package: EnMCB Version: 1.20.0 Command: /home/biocbuild/R/R/bin/R CMD INSTALL EnMCB StartedAt: 2025-09-29 20:21:25 -0000 (Mon, 29 Sep 2025) EndedAt: 2025-09-29 20:22:00 -0000 (Mon, 29 Sep 2025) EllapsedTime: 34.9 seconds RetCode: 0 Status: OK